BEGIN:VCALENDAR
VERSION:2.0
PRODID:-//ChamberMaster//Event Calendar 2.0//EN
METHOD:PUBLISH
X-PUBLISHED-TTL:P3D
REFRESH-INTERVAL:P3D
CALSCALE:GREGORIAN
BEGIN:VEVENT
DTSTART:20151020T170000Z
DTEND:20151021T000000Z
X-MICROSOFT-CDO-ALLDAYEVENT:FALSE
SUMMARY:Birdies\, Brew & BBQ
DESCRIPTION:In 2015 two old favorites take on new flavor! The Chamber Birdies\, Brew & BBQ will combine a day on the golf course with an evening of networking and BBQ. Enjoy 18 holes of friendly competition followed by live music\, BBQ and beer tasting from our newest local breweries.\n\n\n\nTuesday\, October 20\, 2015\n\nShotgun Start: 1:00 PM\n\nBBQ: 5:30 - 8:00 PM\n\nWe invite you to become a sponsor for Birdies\, Brew & BBQ. The primary source of funding for the Cabarrus Regional Chamber of Commerce is from corporate sponsors\, such as yourself. Your support will ensure the success of our mission to lead\, serve and promote our businesses and communities. *Click on the link above for sponsorship details\n\nOther Options To Participate\n\nGolf Foursome: $500 and w/ 4 BBQ tickets: $600\n\nIndividual Golfer: $125 and w/ a BBQ ticket: $155\n\nBBQ Tickets: $30\n\n*Guests that purchase tickets to attend the BBQ will receive 1 beverage tickets to be used on beer or wine. Cash bar available. Beer tasting is included.\n\n\n\nIn Partnership with Charlotte Destination Group
X-ALT-DESC;FMTTYPE=text/html:<p>In 2015 two old favorites take on new flavor! The <strong>Chamber Birdies\, Brew &amp\; BBQ</strong> will combine a day on the golf course with an evening of networking and BBQ. Enjoy 18 holes of friendly competition followed by live music\, BBQ and beer tasting from our newest local breweries.<br />\n<br />\n<span style="font-size:16px\;"><span style="color: rgb(0\, 106\, 143)\;"><strong>Tuesday\, October 20\, 2015</strong></span><br />\n<strong>Shotgun Start:</strong> 1:00 PM<br />\n<strong>BBQ:</strong> 5:30 - 8:00 PM</span></p>\n\n<p>We invite you to become a <a href="http://cloud.chambermaster.com/userfiles/UserFiles/chambers/2418/File/BirdiesBrewBBQ_updated.pdf"><strong>sponsor for Birdies\, Brew &amp\; BBQ</strong></a>. The primary source of funding for the Cabarrus Regional Chamber of Commerce is from corporate sponsors\, such as yourself. Your support will ensure the success of our mission to lead\, serve and promote our businesses and communities. <em><span style="font-size:10px\;">*Click on the link above for sponsorship details</span></em></p>\n\n<p><span style="color:#006A8F\;"><u><strong>Other Options To Participate</strong></u></span><br />\n<span style="color:#006A8F\;"><strong>Golf Foursome: </strong>$500 and w/ 4 BBQ tickets: $600<br />\n<strong>Individual Golfer:</strong> $125 and w/ a BBQ ticket: $155<br />\n<strong>BBQ Tickets: </strong>$30</span><br />\n<span style="font-size:10px\;"><em>*Guests that purchase tickets to attend the BBQ will receive 1&nbsp\;beverage tickets to be used on beer or wine. Cash bar available. Beer tasting is included.<br />\n<br />\n<strong><span style="font-size:12px\;">In Partnership with <a href="https://www.facebook.com/pages/The-Charlotte-Destination-Group-Inc/197879793571932?ref=ts">Charlotte Destination Group</a></span></strong></em></span></p>\n
LOCATION:Cabarrus Country Club 3247 Weddington Road Concord\, NC 28027
UID:e.2418.5105592
SEQUENCE:3
DTSTAMP:20260421T180537Z
URL:https://members.cabarrusncchamber.org/events/details/birdies-brew-bbq-10-20-2015-5105592
END:VEVENT

END:VCALENDAR
