BEGIN:VCALENDAR
VERSION:2.0
PRODID:-//ChamberMaster//Event Calendar 2.0//EN
METHOD:PUBLISH
X-PUBLISHED-TTL:P3D
REFRESH-INTERVAL:P3D
CALSCALE:GREGORIAN
BEGIN:VEVENT
DTSTART;VALUE=DATE:20150924
DTEND;VALUE=DATE:20150928
TRANSP:TRANSPARENT
X-MICROSOFT-CDO-ALLDAYEVENT:TRUE
SUMMARY:AutoFair
DESCRIPTION:The world's largest automotive extravaganza returns to Charlotte Motor Speedway Sept. 24-27. The Charlotte Motor Speedway AutoFair brings together thousands of automobiles\, 50 car clubs\, 7\,000 vendor spaces\, a massive manufacturer midway and a kids' play zone. There is something for every member of the family to enjoy!
X-ALT-DESC;FMTTYPE=text/html:The world&#39\;s largest automotive extravaganza returns to Charlotte Motor Speedway Sept. 24-27. The Charlotte Motor Speedway AutoFair brings together thousands of automobiles\, 50 car clubs\, 7\,000 vendor spaces\, a massive manufacturer midway and a kids&#39\; play zone. There is something for every member of the family to enjoy!
LOCATION:Charlotte Motor Speedway is located in Concord\, N.C.\, 12 miles north of downtown Charlotte on U.S. 29. Take Exit 49 off I-85.
UID:e.2418.5105610
SEQUENCE:3
DTSTAMP:20260423T005558Z
URL:https://members.cabarrusncchamber.org/events/details/autofair-09-24-2015-5105610
END:VEVENT

END:VCALENDAR
