BEGIN:VCALENDAR
VERSION:2.0
PRODID:-//ChamberMaster//Event Calendar 2.0//EN
METHOD:PUBLISH
X-PUBLISHED-TTL:P3D
REFRESH-INTERVAL:P3D
CALSCALE:GREGORIAN
BEGIN:VEVENT
DTSTART:20150409T040000Z
DTEND:20150412T040000Z
X-MICROSOFT-CDO-ALLDAYEVENT:FALSE
SUMMARY:AutoFair
DESCRIPTION:The world’s largest automotive extravaganza returns to Charlotte Motor Speedway April 9-12. The Charlotte Motor Speedway AutoFair brings together thousands of automobiles\, collector car auctions\, 10\,000 vendor spaces\, a massive manufacturer midway and a kids’ play zone. There is something for every member of the family to enjoy.
X-ALT-DESC;FMTTYPE=text/html:The world’s largest automotive extravaganza returns to Charlotte Motor Speedway April 9-12. The Charlotte Motor Speedway AutoFair brings together thousands of automobiles\, collector car auctions\, 10\,000 vendor spaces\, a massive manufacturer midway and a kids’ play zone. There is something for every member of the family to enjoy.
LOCATION:Charlotte Motor Speedway 5555 Concord Pkwy S. Concord\, NC 28027
UID:e.2418.5104254
SEQUENCE:3
DTSTAMP:20260422T194758Z
URL:https://members.cabarrusncchamber.org/events/details/autofair-04-09-2015-5104254
END:VEVENT

END:VCALENDAR
