BEGIN:VCALENDAR
VERSION:2.0
PRODID:-//ChamberMaster//Event Calendar 2.0//EN
METHOD:PUBLISH
X-PUBLISHED-TTL:P3D
REFRESH-INTERVAL:P3D
CALSCALE:GREGORIAN
BEGIN:VEVENT
DTSTART:20150213T163000Z
DTEND:20150213T180000Z
X-MICROSOFT-CDO-ALLDAYEVENT:FALSE
SUMMARY:Annual Meeting
DESCRIPTION:The Chamber will reflect on accomplishments of the past year and look ahead to the strategic plan for the coming three years. We will also recognize the 2014 Chairman of the Board\, Terry Crawford\, Embassy Suites\, as he passes the gavel to incoming Board Chair\, Tammy Whaley\, Duke Energy.  Networking & Registration: 11 AM - 11:30 AM  | Meeting: 11:30 AM to 1 PM
X-ALT-DESC;FMTTYPE=text/html:The Chamber will reflect on accomplishments of the past year and look ahead to the strategic plan for the coming three years. We will also recognize the 2014 Chairman of the Board\, Terry Crawford\, Embassy Suites\, as he passes the gavel to incoming Board Chair\, Tammy Whaley\, Duke Energy.  Networking & Registration: 11 AM - 11:30 AM  | Meeting: 11:30 AM to 1 PM
LOCATION:Great Wolf Lodge 10175 Weddington Rd. Ext. Concord\, NC 28027
UID:e.2418.66726
SEQUENCE:3
DTSTAMP:20260424T040345Z
URL:https://members.cabarrusncchamber.org/events/details/annual-meeting-02-13-2015-66726
END:VEVENT

END:VCALENDAR
