BEGIN:VCALENDAR
VERSION:2.0
PRODID:-//ChamberMaster//Event Calendar 2.0//EN
METHOD:PUBLISH
X-PUBLISHED-TTL:P3D
REFRESH-INTERVAL:P3D
CALSCALE:GREGORIAN
BEGIN:VEVENT
DTSTART:20160823T130000Z
DTEND:20160823T190000Z
X-MICROSOFT-CDO-ALLDAYEVENT:FALSE
SUMMARY:4-H Camp: Junior STEM Day
DESCRIPTION:Explore science based hands on activities and demonstrations. Class features Ms. T.K. the Chemist and 4-H science activities. Each STEM day focuses on a different topic. Youth will need to bring lunch. Snacks\, equipment and activities are included.
X-ALT-DESC;FMTTYPE=text/html:Explore science based hands on activities and demonstrations. Class features Ms. T.K. the Chemist and 4-H science activities. Each STEM day focuses on a different topic. Youth will need to bring lunch. Snacks\, equipment and activities are included.
LOCATION:Cooperative Extension Office 715 Cabarrus Avenue-West Concord\, NC 28027
UID:e.2418.5105796
SEQUENCE:3
DTSTAMP:20260422T074325Z
URL:https://members.cabarrusncchamber.org/events/details/4-h-camp-junior-stem-day-08-23-2016-5105796
END:VEVENT

END:VCALENDAR
