BEGIN:VCALENDAR
VERSION:2.0
PRODID:-//ChamberMaster//Event Calendar 2.0//EN
METHOD:PUBLISH
X-PUBLISHED-TTL:P3D
REFRESH-INTERVAL:P3D
CALSCALE:GREGORIAN
BEGIN:VEVENT
DTSTART:20160725T130000Z
DTEND:20160726T190000Z
X-MICROSOFT-CDO-ALLDAYEVENT:FALSE
SUMMARY:4-H Camp: Community Unity
DESCRIPTION:Work with other teens on community service\, leadership and team building. Travel offsite for lake swim\, ropes course and community service. Please dress appropriately. Youth will need to bring lunch. Snacks travel and activities are included.
X-ALT-DESC;FMTTYPE=text/html:Work with other teens on community service\, leadership and team building. Travel offsite for lake swim\, ropes course and community service. Please dress appropriately. Youth will need to bring lunch. Snacks travel and activities are included.
LOCATION:Cooperative Extension Office 715 Cabarrus Avenue-West Concord\, NC 28027
UID:e.2418.5105799
SEQUENCE:3
DTSTAMP:20260421T204445Z
URL:https://members.cabarrusncchamber.org/events/details/4-h-camp-community-unity-07-25-2016-5105799
END:VEVENT

END:VCALENDAR
